Package: lipidr Version: 2.18.0 Command: rm -rf lipidr.buildbin-libdir && mkdir lipidr.buildbin-libdir && /Users/biocbuild/BBS/utils/build-universal.sh lipidr_2.18.0.tar.gz /Library/Frameworks/R.framework/Resources/bin/R lipidr.buildbin-libdir StartedAt: 2024-10-18 19:10:17 -0400 (Fri, 18 Oct 2024) EndedAt: 2024-10-18 19:11:01 -0400 (Fri, 18 Oct 2024) EllapsedTime: 43.3 seconds RetCode: 0 Status: OK PackageFile: lipidr_2.18.0.tgz PackageFileSize: 3.538 MiB