Package: lionessR Version: 1.18.0 Command: rm -rf lionessR.buildbin-libdir && mkdir lionessR.buildbin-libdir && E:\biocbuild\bbs-3.19-bioc\R\bin\R.exe CMD INSTALL --build --library=lionessR.buildbin-libdir lionessR_1.18.0.tar.gz StartedAt: 2024-10-17 08:02:45 -0400 (Thu, 17 Oct 2024) EndedAt: 2024-10-17 08:02:57 -0400 (Thu, 17 Oct 2024) EllapsedTime: 12.0 seconds RetCode: 0 Status: OK PackageFile: lionessR_1.18.0.zip PackageFileSize: 3.357 MiB