Package: lionessR Version: 1.18.0 Command: chmod a+r lionessR -R && F:\biocbuild\bbs-3.19-bioc\R\bin\R.exe CMD build --keep-empty-dirs --no-resave-data lionessR StartedAt: 2024-06-26 19:45:15 -0400 (Wed, 26 Jun 2024) EndedAt: 2024-06-26 19:45:41 -0400 (Wed, 26 Jun 2024) EllapsedTime: 26.1 seconds RetCode: 0 Status: OK PackageFile: lionessR_1.18.0.tar.gz PackageFileSize: 2.77 MiB