Package: lionessR Version: 1.18.0 Command: /Library/Frameworks/R.framework/Resources/bin/R CMD INSTALL lionessR StartedAt: 2024-10-16 15:24:50 -0400 (Wed, 16 Oct 2024) EndedAt: 2024-10-16 15:25:02 -0400 (Wed, 16 Oct 2024) EllapsedTime: 12.2 seconds RetCode: 0 Status: OK