Package: lionessR Version: 1.18.0 Command: /Library/Frameworks/R.framework/Resources/bin/R CMD build --keep-empty-dirs --no-resave-data lionessR StartedAt: 2024-10-16 20:24:41 -0400 (Wed, 16 Oct 2024) EndedAt: 2024-10-16 20:25:24 -0400 (Wed, 16 Oct 2024) EllapsedTime: 43.1 seconds RetCode: 0 Status: OK PackageFile: lionessR_1.18.0.tar.gz PackageFileSize: 2.85 MiB