Package: lionessR Version: 1.18.0 Command: rm -rf lionessR.buildbin-libdir && mkdir lionessR.buildbin-libdir && /Users/biocbuild/BBS/utils/build-universal.sh lionessR_1.18.0.tar.gz /Library/Frameworks/R.framework/Resources/bin/R lionessR.buildbin-libdir StartedAt: 2024-06-11 11:50:03 -0400 (Tue, 11 Jun 2024) EndedAt: 2024-06-11 11:50:11 -0400 (Tue, 11 Jun 2024) EllapsedTime: 7.8 seconds RetCode: 0 Status: OK PackageFile: lionessR_1.18.0.tgz PackageFileSize: 3.43 MiB