Package: lionessR Version: 1.18.0 Maintainer: Ping-Han Hsieh MaintainerEmail: dn070017 at gmail.com git_url: https://git.bioconductor.org/packages/lionessR git_branch: RELEASE_3_19 git_last_commit: d3a6951 git_last_commit_date: 2024-04-30 11:17:31 -0400 (Tue, 30 Apr 2024)