Package: limpca Version: 1.0.0 Command: E:\biocbuild\bbs-3.19-bioc\R\bin\R.exe CMD check --no-multiarch --install=check:limpca.install-out.txt --library=E:\biocbuild\bbs-3.19-bioc\R\library --no-vignettes --timings limpca_1.0.0.tar.gz StartedAt: 2024-10-10 02:22:47 -0400 (Thu, 10 Oct 2024) EndedAt: 2024-10-10 02:27:26 -0400 (Thu, 10 Oct 2024) EllapsedTime: 279.8 seconds RetCode: 0 Status: OK CheckDir: limpca.Rcheck Warnings: 0