Package: limpca Version: 1.0.0 Command: chmod a+r limpca -R && E:\biocbuild\bbs-3.19-bioc\R\bin\R.exe CMD build --keep-empty-dirs --no-resave-data limpca StartedAt: 2024-10-16 19:59:20 -0400 (Wed, 16 Oct 2024) EndedAt: 2024-10-16 20:03:03 -0400 (Wed, 16 Oct 2024) EllapsedTime: 222.6 seconds RetCode: 1 Status: ERROR PackageFile: None PackageFileSize: NA