Package: limpca Version: 1.0.0 Command: /home/biocbuild/bbs-3.19-bioc/R/bin/R CMD check --install=check:limpca.install-out.txt --library=/home/biocbuild/bbs-3.19-bioc/R/site-library --timings limpca_1.0.0.tar.gz StartedAt: 2024-10-17 01:53:23 -0400 (Thu, 17 Oct 2024) EndedAt: 2024-10-17 01:58:35 -0400 (Thu, 17 Oct 2024) EllapsedTime: 311.8 seconds RetCode: 0 Status: OK CheckDir: limpca.Rcheck Warnings: 0