Package: limpca Version: 1.0.0 Command: /home/biocbuild/bbs-3.19-bioc/R/bin/R CMD build --keep-empty-dirs --no-resave-data limpca StartedAt: 2024-10-16 19:11:43 -0400 (Wed, 16 Oct 2024) EndedAt: 2024-10-16 19:13:36 -0400 (Wed, 16 Oct 2024) EllapsedTime: 112.3 seconds RetCode: 0 Status: OK PackageFile: limpca_1.0.0.tar.gz PackageFileSize: 4.035 MiB