Package: limpca Version: 1.0.0 Command: /Library/Frameworks/R.framework/Resources/bin/R CMD check --install=check:limpca.install-out.txt --library=/Library/Frameworks/R.framework/Resources/library --no-vignettes --timings limpca_1.0.0.tar.gz StartedAt: 2024-06-09 21:11:46 -0400 (Sun, 09 Jun 2024) EndedAt: 2024-06-09 21:15:43 -0400 (Sun, 09 Jun 2024) EllapsedTime: 237.1 seconds RetCode: 0 Status: OK CheckDir: limpca.Rcheck Warnings: 0