Package: limpca Version: 1.0.0 Command: rm -rf limpca.buildbin-libdir && mkdir limpca.buildbin-libdir && /Users/biocbuild/BBS/utils/build-universal.sh limpca_1.0.0.tar.gz /Library/Frameworks/R.framework/Resources/bin/R limpca.buildbin-libdir StartedAt: 2024-06-10 00:24:31 -0400 (Mon, 10 Jun 2024) EndedAt: 2024-06-10 00:25:06 -0400 (Mon, 10 Jun 2024) EllapsedTime: 35.0 seconds RetCode: 0 Status: OK PackageFile: limpca_1.0.0.tgz PackageFileSize: 5.048 MiB