Package: limmaGUI Version: 1.80.0 Command: E:\biocbuild\bbs-3.19-bioc\R\bin\R.exe CMD INSTALL limmaGUI StartedAt: 2024-10-16 16:05:15 -0400 (Wed, 16 Oct 2024) EndedAt: 2024-10-16 16:06:16 -0400 (Wed, 16 Oct 2024) EllapsedTime: 60.2 seconds RetCode: 0 Status: OK