Package: limmaGUI Version: 1.80.0 Command: E:\biocbuild\bbs-3.19-bioc\R\bin\R.exe CMD check --no-multiarch --install=check:limmaGUI.install-out.txt --library=E:\biocbuild\bbs-3.19-bioc\R\library --no-vignettes --timings limmaGUI_1.80.0.tar.gz StartedAt: 2024-10-17 02:46:41 -0400 (Thu, 17 Oct 2024) EndedAt: 2024-10-17 02:47:43 -0400 (Thu, 17 Oct 2024) EllapsedTime: 61.2 seconds RetCode: 0 Status: OK CheckDir: limmaGUI.Rcheck Warnings: 0