Package: limmaGUI Version: 1.80.0 Command: chmod a+r limmaGUI -R && E:\biocbuild\bbs-3.19-bioc\R\bin\R.exe CMD build --keep-empty-dirs --no-resave-data limmaGUI StartedAt: 2024-10-16 19:59:19 -0400 (Wed, 16 Oct 2024) EndedAt: 2024-10-16 19:59:54 -0400 (Wed, 16 Oct 2024) EllapsedTime: 34.6 seconds RetCode: 0 Status: OK PackageFile: limmaGUI_1.80.0.tar.gz PackageFileSize: 5.244 MiB