Package: limmaGUI Version: 1.80.0 Command: rm -rf limmaGUI.buildbin-libdir && mkdir limmaGUI.buildbin-libdir && E:\biocbuild\bbs-3.19-bioc\R\bin\R.exe CMD INSTALL --build --library=limmaGUI.buildbin-libdir limmaGUI_1.80.0.tar.gz StartedAt: 2024-10-17 08:02:37 -0400 (Thu, 17 Oct 2024) EndedAt: 2024-10-17 08:03:22 -0400 (Thu, 17 Oct 2024) EllapsedTime: 44.8 seconds RetCode: 0 Status: OK PackageFile: limmaGUI_1.80.0.zip PackageFileSize: 5.898 MiB