Package: limmaGUI Version: 1.80.0 Command: /Library/Frameworks/R.framework/Resources/bin/R CMD check --install=check:limmaGUI.install-out.txt --library=/Library/Frameworks/R.framework/Resources/library --no-vignettes --timings limmaGUI_1.80.0.tar.gz StartedAt: 2024-10-17 07:26:07 -0400 (Thu, 17 Oct 2024) EndedAt: 2024-10-17 07:28:55 -0400 (Thu, 17 Oct 2024) EllapsedTime: 168.4 seconds RetCode: 0 Status: OK CheckDir: limmaGUI.Rcheck Warnings: 0