Package: limmaGUI Version: 1.80.0 Command: /Library/Frameworks/R.framework/Resources/bin/R CMD build --keep-empty-dirs --no-resave-data limmaGUI StartedAt: 2024-10-16 20:24:02 -0400 (Wed, 16 Oct 2024) EndedAt: 2024-10-16 20:25:27 -0400 (Wed, 16 Oct 2024) EllapsedTime: 84.6 seconds RetCode: 0 Status: OK PackageFile: limmaGUI_1.80.0.tar.gz PackageFileSize: 5.346 MiB