Package: limmaGUI Version: 1.80.0 Command: /Library/Frameworks/R.framework/Resources/bin/R CMD INSTALL limmaGUI StartedAt: 2024-06-09 15:06:24 -0400 (Sun, 09 Jun 2024) EndedAt: 2024-06-09 15:06:52 -0400 (Sun, 09 Jun 2024) EllapsedTime: 27.7 seconds RetCode: 0 Status: OK