Package: limmaGUI Version: 1.80.0 Command: /Library/Frameworks/R.framework/Resources/bin/R CMD INSTALL limmaGUI StartedAt: 2024-06-09 15:08:10 -0400 (Sun, 09 Jun 2024) EndedAt: 2024-06-09 15:10:29 -0400 (Sun, 09 Jun 2024) EllapsedTime: 138.9 seconds RetCode: 0 Status: OK