Package: limmaGUI Version: 1.80.0 Command: rm -rf limmaGUI.buildbin-libdir && mkdir limmaGUI.buildbin-libdir && /Users/biocbuild/BBS/utils/build-universal.sh limmaGUI_1.80.0.tar.gz /Library/Frameworks/R.framework/Resources/bin/R limmaGUI.buildbin-libdir StartedAt: 2024-06-11 11:49:24 -0400 (Tue, 11 Jun 2024) EndedAt: 2024-06-11 12:02:30 -0400 (Tue, 11 Jun 2024) EllapsedTime: 786.0 seconds RetCode: 0 Status: OK PackageFile: limmaGUI_1.80.0.tgz PackageFileSize: 5.965 MiB