Package: limmaGUI Version: 1.80.0 Command: /Library/Frameworks/R.framework/Resources/bin/R CMD build --keep-empty-dirs --no-resave-data limmaGUI StartedAt: 2024-10-17 03:14:47 -0400 (Thu, 17 Oct 2024) EndedAt: 2024-10-17 03:15:24 -0400 (Thu, 17 Oct 2024) EllapsedTime: 37.2 seconds RetCode: 0 Status: OK PackageFile: limmaGUI_1.80.0.tar.gz PackageFileSize: 5.346 MiB