Package: limmaGUI Version: 1.80.0 Command: rm -rf limmaGUI.buildbin-libdir && mkdir limmaGUI.buildbin-libdir && /Users/biocbuild/BBS/utils/build-universal.sh limmaGUI_1.80.0.tar.gz /Library/Frameworks/R.framework/Resources/bin/R limmaGUI.buildbin-libdir StartedAt: 2024-10-18 19:09:32 -0400 (Fri, 18 Oct 2024) EndedAt: 2024-10-18 19:10:28 -0400 (Fri, 18 Oct 2024) EllapsedTime: 55.6 seconds RetCode: 0 Status: OK PackageFile: limmaGUI_1.80.0.tgz PackageFileSize: 5.965 MiB