Package: limma Version: 3.60.6 Command: chmod a+r limma -R && E:\biocbuild\bbs-3.19-bioc\R\bin\R.exe CMD build --keep-empty-dirs --no-resave-data limma StartedAt: 2024-10-16 19:59:06 -0400 (Wed, 16 Oct 2024) EndedAt: 2024-10-16 20:00:10 -0400 (Wed, 16 Oct 2024) EllapsedTime: 64.2 seconds RetCode: 0 Status: OK PackageFile: limma_3.60.6.tar.gz PackageFileSize: 2.684 MiB