Package: limma Version: 3.60.6 Command: /home/biocbuild/bbs-3.19-bioc/R/bin/R CMD build --keep-empty-dirs --no-resave-data limma StartedAt: 2024-10-16 19:11:32 -0400 (Wed, 16 Oct 2024) EndedAt: 2024-10-16 19:11:55 -0400 (Wed, 16 Oct 2024) EllapsedTime: 22.1 seconds RetCode: 0 Status: OK PackageFile: limma_3.60.6.tar.gz PackageFileSize: 2.681 MiB