Package: limma Version: 3.60.6 Command: /Library/Frameworks/R.framework/Resources/bin/R CMD INSTALL limma StartedAt: 2024-10-16 15:43:21 -0400 (Wed, 16 Oct 2024) EndedAt: 2024-10-16 15:43:43 -0400 (Wed, 16 Oct 2024) EllapsedTime: 21.6 seconds RetCode: 0 Status: OK