Package: limma Version: 3.60.6 Command: /Library/Frameworks/R.framework/Resources/bin/R CMD build --keep-empty-dirs --no-resave-data limma StartedAt: 2024-10-17 03:14:45 -0400 (Thu, 17 Oct 2024) EndedAt: 2024-10-17 03:15:20 -0400 (Thu, 17 Oct 2024) EllapsedTime: 35.1 seconds RetCode: 0 Status: OK PackageFile: limma_3.60.6.tar.gz PackageFileSize: 2.681 MiB