Package: lfa Version: 2.4.0 Command: rm -rf lfa.buildbin-libdir && mkdir lfa.buildbin-libdir && F:\biocbuild\bbs-3.19-bioc\R\bin\R.exe CMD INSTALL --build --library=lfa.buildbin-libdir lfa_2.4.0.tar.gz StartedAt: 2024-06-27 08:25:21 -0400 (Thu, 27 Jun 2024) EndedAt: 2024-06-27 08:25:42 -0400 (Thu, 27 Jun 2024) EllapsedTime: 20.3 seconds RetCode: 0 Status: OK PackageFile: lfa_2.4.0.zip PackageFileSize: 521.4 KiB