Package: lfa Version: 2.4.0 Command: /home/biocbuild/bbs-3.19-bioc/R/bin/R CMD build --keep-empty-dirs --no-resave-data lfa StartedAt: 2024-10-16 19:11:31 -0400 (Wed, 16 Oct 2024) EndedAt: 2024-10-16 19:11:40 -0400 (Wed, 16 Oct 2024) EllapsedTime: 9.0 seconds RetCode: 0 Status: OK PackageFile: lfa_2.4.0.tar.gz PackageFileSize: 341.3 KiB