Package: lfa Version: 2.4.0 Command: rm -rf lfa.buildbin-libdir && mkdir lfa.buildbin-libdir && /Users/biocbuild/BBS/utils/build-universal.sh lfa_2.4.0.tar.gz /Library/Frameworks/R.framework/Resources/bin/R lfa.buildbin-libdir StartedAt: 2024-10-17 16:28:14 -0400 (Thu, 17 Oct 2024) EndedAt: 2024-10-17 16:28:25 -0400 (Thu, 17 Oct 2024) EllapsedTime: 11.0 seconds RetCode: 0 Status: OK PackageFile: lfa_2.4.0.tgz PackageFileSize: 503.5 KiB