Package: lfa Version: 2.4.0 Command: /Library/Frameworks/R.framework/Resources/bin/R CMD build --keep-empty-dirs --no-resave-data lfa StartedAt: 2024-06-09 17:06:03 -0400 (Sun, 09 Jun 2024) EndedAt: 2024-06-09 17:06:20 -0400 (Sun, 09 Jun 2024) EllapsedTime: 16.9 seconds RetCode: 0 Status: OK PackageFile: lfa_2.4.0.tar.gz PackageFileSize: 340.8 KiB