Package: lfa Version: 2.4.0 Command: /Library/Frameworks/R.framework/Resources/bin/R CMD build --keep-empty-dirs --no-resave-data lfa StartedAt: 2024-10-17 03:14:27 -0400 (Thu, 17 Oct 2024) EndedAt: 2024-10-17 03:14:45 -0400 (Thu, 17 Oct 2024) EllapsedTime: 18.2 seconds RetCode: 0 Status: OK PackageFile: lfa_2.4.0.tar.gz PackageFileSize: 341.2 KiB