Package: lfa Version: 2.4.0 Command: rm -rf lfa.buildbin-libdir && mkdir lfa.buildbin-libdir && /Users/biocbuild/BBS/utils/build-universal.sh lfa_2.4.0.tar.gz /Library/Frameworks/R.framework/Resources/bin/R lfa.buildbin-libdir StartedAt: 2024-10-18 19:09:25 -0400 (Fri, 18 Oct 2024) EndedAt: 2024-10-18 19:09:32 -0400 (Fri, 18 Oct 2024) EllapsedTime: 7.8 seconds RetCode: 0 Status: OK PackageFile: lfa_2.4.0.tgz PackageFileSize: 502.5 KiB