Package: levi Version: 1.22.0 Command: rm -rf levi.buildbin-libdir && mkdir levi.buildbin-libdir && E:\biocbuild\bbs-3.19-bioc\R\bin\R.exe CMD INSTALL --build --library=levi.buildbin-libdir levi_1.22.0.tar.gz StartedAt: 2024-10-17 08:02:25 -0400 (Thu, 17 Oct 2024) EndedAt: 2024-10-17 08:02:53 -0400 (Thu, 17 Oct 2024) EllapsedTime: 28.2 seconds RetCode: 0 Status: OK PackageFile: levi_1.22.0.zip PackageFileSize: 2.554 MiB