Package: levi Version: 1.22.0 Command: chmod a+r levi -R && F:\biocbuild\bbs-3.19-bioc\R\bin\R.exe CMD build --keep-empty-dirs --no-resave-data levi StartedAt: 2024-06-26 19:43:58 -0400 (Wed, 26 Jun 2024) EndedAt: 2024-06-26 19:46:18 -0400 (Wed, 26 Jun 2024) EllapsedTime: 139.5 seconds RetCode: 0 Status: OK PackageFile: levi_1.22.0.tar.gz PackageFileSize: 2.676 MiB