Package: levi Version: 1.22.0 Command: /home/biocbuild/bbs-3.19-bioc/R/bin/R CMD build --keep-empty-dirs --no-resave-data levi StartedAt: 2024-10-16 19:11:19 -0400 (Wed, 16 Oct 2024) EndedAt: 2024-10-16 19:14:23 -0400 (Wed, 16 Oct 2024) EllapsedTime: 183.4 seconds RetCode: 0 Status: OK PackageFile: levi_1.22.0.tar.gz PackageFileSize: 2.755 MiB