Package: levi Version: 1.22.0 Command: /Library/Frameworks/R.framework/Resources/bin/R CMD build --keep-empty-dirs --no-resave-data levi StartedAt: 2024-06-09 17:05:48 -0400 (Sun, 09 Jun 2024) EndedAt: 2024-06-09 17:06:56 -0400 (Sun, 09 Jun 2024) EllapsedTime: 67.4 seconds RetCode: 0 Status: OK PackageFile: levi_1.22.0.tar.gz PackageFileSize: 2.781 MiB