Package: levi Version: 1.22.0 Command: /Library/Frameworks/R.framework/Resources/bin/R CMD INSTALL levi StartedAt: 2024-10-16 17:41:25 -0400 (Wed, 16 Oct 2024) EndedAt: 2024-10-16 17:41:43 -0400 (Wed, 16 Oct 2024) EllapsedTime: 17.6 seconds RetCode: 0 Status: OK