Package: levi Version: 1.22.0 Command: /Library/Frameworks/R.framework/Resources/bin/R CMD check --install=check:levi.install-out.txt --library=/Library/Frameworks/R.framework/Resources/library --no-vignettes --timings levi_1.22.0.tar.gz StartedAt: 2024-10-18 02:05:00 -0400 (Fri, 18 Oct 2024) EndedAt: 2024-10-18 02:06:47 -0400 (Fri, 18 Oct 2024) EllapsedTime: 106.4 seconds RetCode: 0 Status: WARNINGS CheckDir: levi.Rcheck Warnings: 1