Package: levi Version: 1.22.0 Command: /Library/Frameworks/R.framework/Resources/bin/R CMD build --keep-empty-dirs --no-resave-data levi StartedAt: 2024-10-17 03:14:05 -0400 (Thu, 17 Oct 2024) EndedAt: 2024-10-17 03:17:14 -0400 (Thu, 17 Oct 2024) EllapsedTime: 189.3 seconds RetCode: 0 Status: OK PackageFile: levi_1.22.0.tar.gz PackageFileSize: 2.782 MiB