Package: levi Version: 1.22.0 Command: rm -rf levi.buildbin-libdir && mkdir levi.buildbin-libdir && /Users/biocbuild/BBS/utils/build-universal.sh levi_1.22.0.tar.gz /Library/Frameworks/R.framework/Resources/bin/R levi.buildbin-libdir StartedAt: 2024-10-18 19:09:22 -0400 (Fri, 18 Oct 2024) EndedAt: 2024-10-18 19:09:45 -0400 (Fri, 18 Oct 2024) EllapsedTime: 22.5 seconds RetCode: 0 Status: OK PackageFile: levi_1.22.0.tgz PackageFileSize: 2.353 MiB