Package: lemur Version: 1.2.0 Command: E:\biocbuild\bbs-3.19-bioc\R\bin\R.exe CMD INSTALL lemur StartedAt: 2024-10-16 16:30:07 -0400 (Wed, 16 Oct 2024) EndedAt: 2024-10-16 16:31:06 -0400 (Wed, 16 Oct 2024) EllapsedTime: 59.2 seconds RetCode: 0 Status: OK