Package: lemur Version: 1.2.0 Command: chmod a+r lemur -R && E:\biocbuild\bbs-3.19-bioc\R\bin\R.exe CMD build --keep-empty-dirs --no-resave-data lemur StartedAt: 2024-10-16 19:58:33 -0400 (Wed, 16 Oct 2024) EndedAt: 2024-10-16 20:00:56 -0400 (Wed, 16 Oct 2024) EllapsedTime: 142.9 seconds RetCode: 0 Status: OK PackageFile: lemur_1.2.0.tar.gz PackageFileSize: 3.334 MiB