Package: lemur Version: 1.2.0 Command: rm -rf lemur.buildbin-libdir && mkdir lemur.buildbin-libdir && E:\biocbuild\bbs-3.19-bioc\R\bin\R.exe CMD INSTALL --build --library=lemur.buildbin-libdir lemur_1.2.0.tar.gz StartedAt: 2024-10-17 08:02:22 -0400 (Thu, 17 Oct 2024) EndedAt: 2024-10-17 08:03:17 -0400 (Thu, 17 Oct 2024) EllapsedTime: 55.3 seconds RetCode: 0 Status: OK PackageFile: lemur_1.2.0.zip PackageFileSize: 3.945 MiB