Package: lemur Version: 1.2.0 Command: F:\biocbuild\bbs-3.19-bioc\R\bin\R.exe CMD INSTALL lemur StartedAt: 2024-06-26 16:01:10 -0400 (Wed, 26 Jun 2024) EndedAt: 2024-06-26 16:02:13 -0400 (Wed, 26 Jun 2024) EllapsedTime: 62.8 seconds RetCode: 0 Status: OK