Package: lemur Version: 1.2.0 Command: rm -rf lemur.buildbin-libdir && mkdir lemur.buildbin-libdir && F:\biocbuild\bbs-3.19-bioc\R\bin\R.exe CMD INSTALL --build --library=lemur.buildbin-libdir lemur_1.2.0.tar.gz StartedAt: 2024-06-27 08:25:15 -0400 (Thu, 27 Jun 2024) EndedAt: 2024-06-27 08:26:17 -0400 (Thu, 27 Jun 2024) EllapsedTime: 61.7 seconds RetCode: 0 Status: OK PackageFile: lemur_1.2.0.zip PackageFileSize: 3.945 MiB