Package: lemur Version: 1.2.0 Command: /home/biocbuild/bbs-3.19-bioc/R/bin/R CMD check --install=check:lemur.install-out.txt --library=/home/biocbuild/bbs-3.19-bioc/R/site-library --timings lemur_1.2.0.tar.gz StartedAt: 2024-10-17 01:52:26 -0400 (Thu, 17 Oct 2024) EndedAt: 2024-10-17 01:57:51 -0400 (Thu, 17 Oct 2024) EllapsedTime: 324.9 seconds RetCode: 0 Status: OK CheckDir: lemur.Rcheck Warnings: 0