Package: lemur Version: 1.2.0 Command: /Library/Frameworks/R.framework/Resources/bin/R CMD INSTALL lemur StartedAt: 2024-10-16 15:31:34 -0400 (Wed, 16 Oct 2024) EndedAt: 2024-10-16 15:33:10 -0400 (Wed, 16 Oct 2024) EllapsedTime: 95.3 seconds RetCode: 0 Status: OK