Package: lemur Version: 1.2.0 Command: /Library/Frameworks/R.framework/Resources/bin/R CMD build --keep-empty-dirs --no-resave-data lemur StartedAt: 2024-06-09 23:34:20 -0400 (Sun, 09 Jun 2024) EndedAt: 2024-06-09 23:36:36 -0400 (Sun, 09 Jun 2024) EllapsedTime: 135.8 seconds RetCode: 0 Status: OK PackageFile: lemur_1.2.0.tar.gz PackageFileSize: 3.526 MiB